Workbook
Name list: 'سیاهه (2)'!$U$8:$U$101
Name list: #REF!
Name list1: 'سیاهه (2)'!$U$8:$U$68
Name list1: #REF!
Name list12: 'صفحه اول'!$B$32:$B$44
Name list13: 'صفحه اول'!$B$31:$B$44
Name list2: 'سیاهه (2)'!$V$8:$V$29
Name list2: #REF!
Name list3: '[1]صفحه اول'!$R$8:$R$11
Name list3: 'صفحه اول'!$R$8:$R$11
Name list3: #REF!
Name list4: 'صفحه اول'!$B$18:$E$29
Name list4: #REF!
Name list5: 'سیاهه (2)'!$U$8:$U$45
Name list5: [1]سیاهه!$U$7:$U$44
Name list5: #REF!
Name list6: 'سیاهه (2)'!$V$8:$V$21
Name list6: [1]سیاهه!$V$7:$V$20
Name list6: #REF!
Name list8: #REF!

Sheet صفحه اول
B8: اطلاعات شما تکمیل شد. جهت ورود اطلاعات روی گزینه سیاهه فاکتور کلیک نمایید. | R8: همسر
R9: فرزند
A10: ردیف | B10: مشخصات کارمند | P10: =Q30 -> #N/A | R10: پدر
A11: 1 | B11: نام و نام خانوادگی سرپرست | R11: مادر
A12: 2 | B12: کد پرسنلی
A13: 3 | B13: کد ملی سرپرست
A14: 4 | B14: شماره همراه
A15: 5 | B15: شماره قرارداد:
B16: مشخصات افراد تحت تکفل (شامل همسر، فرزندان و پدر و مادر) | M16: =IF((G14>0),3,1) -> 1 | P16: =SUM(M16:O16) -> 1 | Q16: =3 -> 3
A17: ردیف | B17: نام و نام خانوادگی | F17: نسبت | G17: کد ملی | L17: =IF((M17=FALSE),0,1) -> 0 | M17: =ISTEXT(G11) -> FALSE | N17: =IF((G12>0),1,0) -> 0 | O17: =IF((G13>0),1,0) -> 0 | P17: =SUM(N17:O17,L17) -> 0 | Q17: =Q16+3 -> 6 | R17: 1
A18: 1 | K18: =ISTEXT(F18) -> FALSE | L18: =IF((K18=FALSE),0,1) -> 0 | M18: =ISTEXT(B18) -> FALSE | N18: =IF((M18=FALSE),0,1) -> 0 | O18: =IF((G18>0),1,0) -> 0 | P18: =SUM(N18:O18,L18) -> 0 | Q18: =Q17+3 -> 9 | R18: 1 | U18: از لیست ذیل انتخاب نمایید | V18: 0
A19: 2 | K19: =ISTEXT(F19) -> FALSE | L19: =IF((K19=FALSE),0,1) -> 0 | M19: =ISTEXT(B19) -> FALSE | N19: =IF((M19=FALSE),0,1) -> 0 | O19: =IF((G19>0),1,0) -> 0 | P19: =SUM(N19:O19,L19) -> 0 | Q19: =Q18+3 -> 12 | R19: 1 | U19: =G11 -> 0 | V19: =G13 -> 0
A20: 3 | K20: =ISTEXT(F20) -> FALSE | L20: =IF((K20=FALSE),0,1) -> 0 | M20: =ISTEXT(B20) -> FALSE | N20: =IF((M20=FALSE),0,1) -> 0 | O20: =IF((G20>0),1,0) -> 0 | P20: =SUM(N20:O20,L20) -> 0 | Q20: =Q19+3 -> 15 | R20: 1 | U20: =B18 -> 0 | V20: =G18 -> 0
A21: 4 | K21: =ISTEXT(F21) -> FALSE | L21: =IF((K21=FALSE),0,1) -> 0 | M21: =ISTEXT(B21) -> FALSE | N21: =IF((M21=FALSE),0,1) -> 0 | O21: =IF((G21>0),1,0) -> 0 | P21: =SUM(N21:O21,L21) -> 0 | Q21: =Q20+3 -> 18 | R21: 1 | U21: =B19 -> 0 | V21: =G19 -> 0
A22: 5 | K22: =ISTEXT(F22) -> FALSE | L22: =IF((K22=FALSE),0,1) -> 0 | M22: =ISTEXT(B22) -> FALSE | N22: =IF((M22=FALSE),0,1) -> 0 | O22: =IF((G22>0),1,0) -> 0 | P22: =SUM(N22:O22,L22) -> 0 | Q22: =Q21+3 -> 21 | R22: 1 | U22: =B20 -> 0 | V22: =G20 -> 0
A23: 6 | K23: =ISTEXT(F23) -> FALSE | L23: =IF((K23=FALSE),0,1) -> 0 | M23: =ISTEXT(B23) -> FALSE | N23: =IF((M23=FALSE),0,1) -> 0 | O23: =IF((G23>0),1,0) -> 0 | P23: =SUM(N23:O23,L23) -> 0 | Q23: =Q22+3 -> 24 | R23: 1 | U23: =B21 -> 0 | V23: =G21 -> 0
A24: 7 | K24: =ISTEXT(F24) -> FALSE | L24: =IF((K24=FALSE),0,1) -> 0 | M24: =ISTEXT(B24) -> FALSE | N24: =IF((M24=FALSE),0,1) -> 0 | O24: =IF((G24>0),1,0) -> 0 | P24: =SUM(N24:O24,L24) -> 0 | Q24: =Q23+3 -> 27 | R24: 1 | U24: =B22 -> 0 | V24: =G22 -> 0
A25: 8 | K25: =ISTEXT(F25) -> FALSE | L25: =IF((K25=FALSE),0,1) -> 0 | M25: =ISTEXT(B25) -> FALSE | N25: =IF((M25=FALSE),0,1) -> 0 | O25: =IF((G25>0),1,0) -> 0 | P25: =SUM(N25:O25,L25) -> 0 | Q25: =Q24+3 -> 30 | R25: 1 | U25: =B23 -> 0 | V25: =G23 -> 0
A26: 9 | K26: =ISTEXT(F26) -> FALSE | L26: =IF((K26=FALSE),0,1) -> 0 | M26: =ISTEXT(B26) -> FALSE | N26: =IF((M26=FALSE),0,1) -> 0 | O26: =IF((G26>0),1,0) -> 0 | P26: =SUM(N26:O26,L26) -> 0 | Q26: =Q25+3 -> 33 | R26: 1 | U26: =B24 -> 0 | V26: =G24 -> 0
A27: 10 | K27: =ISTEXT(F27) -> FALSE | L27: =IF((K27=FALSE),0,1) -> 0 | M27: =ISTEXT(B27) -> FALSE | N27: =IF((M27=FALSE),0,1) -> 0 | O27: =IF((G27>0),1,0) -> 0 | P27: =SUM(N27:O27,L27) -> 0 | Q27: =Q26+3 -> 36 | R27: 1 | U27: =B25 -> 0 | V27: =G25 -> 0
A28: 11 | K28: =ISTEXT(F28) -> FALSE | L28: =IF((K28=FALSE),0,1) -> 0 | M28: =ISTEXT(B28) -> FALSE | N28: =IF((M28=FALSE),0,1) -> 0 | O28: =IF((G28>0),1,0) -> 0 | P28: =SUM(N28:O28,L28) -> 0 | Q28: =Q27+3 -> 39 | R28: 1 | U28: =B26 -> 0 | V28: =G26 -> 0
A29: 12 | K29: =ISTEXT(F29) -> FALSE | L29: =IF((K29=FALSE),0,1) -> 0 | M29: =ISTEXT(B29) -> FALSE | N29: =IF((M29=FALSE),0,1) -> 0 | O29: =IF((G29>0),1,0) -> 0 | P29: =SUM(N29:O29,L29) -> 0 | Q29: =Q28+3 -> 42 | R29: 1 | U29: =B27 -> 0 | V29: =G27 -> 0
P30: =SUM(P16:P29) -> 1 | Q30: =VLOOKUP(P30,Q17:R29,2,0) -> #N/A | U30: =B28 -> 0 | V30: =G28 -> 0
U31: =B29 -> 0 | V31: =G29 -> 0
B32: =$G$11 -> 0 | E32: =E18 -> 0 | F32: بیمه شده | G32: =$G$13 -> 0
B33: =B18 -> 0 | C33: =C18 -> 0 | D33: =D18 -> 0 | E33: =E18 -> 0 | F33: =F18 -> 0 | G33: =G18 -> 0
B34: =B19 -> 0 | C34: =C19 -> 0 | D34: =D19 -> 0 | E34: =E19 -> 0 | F34: =F19 -> 0 | G34: =G19 -> 0
B35: =B20 -> 0 | C35: =C20 -> 0 | D35: =D20 -> 0 | E35: =E20 -> 0 | F35: =F20 -> 0 | G35: =G20 -> 0
B36: =B21 -> 0 | C36: =C21 -> 0 | D36: =D21 -> 0 | E36: =E21 -> 0 | F36: =F21 -> 0 | G36: =G21 -> 0
B37: =B22 -> 0 | C37: =C22 -> 0 | D37: =D22 -> 0 | E37: =E22 -> 0 | F37: =F22 -> 0 | G37: =G22 -> 0
B38: =B23 -> 0 | C38: =C23 -> 0 | D38: =D23 -> 0 | E38: =E23 -> 0 | F38: =F23 -> 0 | G38: =G23 -> 0
B39: =B24 -> 0 | C39: =C24 -> 0 | D39: =D24 -> 0 | E39: =E24 -> 0 | F39: =F24 -> 0 | G39: =G24 -> 0
B40: =B25 -> 0 | C40: =C25 -> 0 | D40: =D25 -> 0 | E40: =E25 -> 0 | F40: =F25 -> 0 | G40: =G25 -> 0
B41: =B26 -> 0 | C41: =C26 -> 0 | D41: =D26 -> 0 | E41: =E26 -> 0 | F41: =F26 -> 0 | G41: =G26 -> 0
B42: =B27 -> 0 | C42: =C27 -> 0 | D42: =D27 -> 0 | E42: =E27 -> 0 | F42: =F27 -> 0 | G42: =G27 -> 0
B43: =B28 -> 0 | C43: =C28 -> 0 | D43: =D28 -> 0 | E43: =E28 -> 0 | F43: =F28 -> 0 | G43: =G28 -> 0
B44: =B29 -> 0 | C44: =C29 -> 0 | D44: =D29 -> 0 | E44: =E29 -> 0 | F44: =F29 -> 0 | G44: =G29 -> 0

Sheet سیاهه (2)
A1: لیست خدمات در سمت چپ جدول موجود است چنانچه خدماتی در لیست موجود نمی باشد زیر لیست اضافه نموده و استفاده نمایید. نکته : برای هر بیمار یک لیست جداگانه تکمیل نمایید.
A5: ردیف | B5: تاریخ پذیرش | E5: تاریخ ترخیص | H5: خدمات | I5: نام بیمار | J5: مبلغ فاکتور به ریال | L5: لیست خدمات
L6: ویزیت متخصص
B7: روز | C7: ماه | D7: سال | E7: روز | F7: ماه | G7: سال | L7: ویزیت فوق تخصص | U7: list5 | V7: list6 | Y7: ='صفحه اول'!K14 -> 0
K8: ='صفحه اول'!$Q$30 -> #N/A | L8: ویزیت پزشک عمومی | Y8: =IF((A8>0),1,0) -> 0 | Z8: =IF((B8>0),1,0) -> 0 | AA8: =IF((C8>0),1,0) -> 0 | AB8: =IF((D8>0),1,0) -> 0 | AC8: =IF((ISTEXT(H8)),1,0) -> 0 | AD8: =IF((ISTEXT(I8)),1,0) -> 0 | AE8: =IF((J8>0),1,0) -> 0 | AF8: =SUM(Y8:AE8) -> 0
L9: دارو | U9: =$L7 -> ویزیت فوق تخصص | Y9: =IF((A9>0),1,0) -> 0 | Z9: =IF((B9>0),1,0) -> 0 | AA9: =IF((C9>0),1,0) -> 0 | AB9: =IF((D9>0),1,0) -> 0 | AC9: =IF((ISTEXT(H9)),1,0) -> 0 | AD9: =IF((ISTEXT(I9)),1,0) -> 0 | AE9: =IF((J9>0),1,0) -> 0 | AF9: =SUM(Y9:AE9) -> 0 | AG9: =IF((I9=I$8),0,1) -> 0
L10: آزمایش | U10: =$L6 -> ویزیت متخصص | Y10: =IF((A10>0),1,0) -> 0 | Z10: =IF((B10>0),1,0) -> 0 | AA10: =IF((C10>0),1,0) -> 0 | AB10: =IF((D10>0),1,0) -> 0 | AC10: =IF((ISTEXT(H10)),1,0) -> 0 | AD10: =IF((ISTEXT(I10)),1,0) -> 0 | AE10: =IF((J10>0),1,0) -> 0 | AF10: =SUM(Y10:AE10) -> 0 | AG10: =IF((I10=I$8),0,1) -> 0
L11: سونو گرافی | U11: =$L8 -> ویزیت پزشک عمومی | Y11: =IF((A11>0),1,0) -> 0 | Z11: =IF((B11>0),1,0) -> 0 | AA11: =IF((C11>0),1,0) -> 0 | AB11: =IF((D11>0),1,0) -> 0 | AC11: =IF((ISTEXT(H11)),1,0) -> 0 | AD11: =IF((ISTEXT(I11)),1,0) -> 0 | AE11: =IF((J11>0),1,0) -> 0 | AF11: =SUM(Y11:AE11) -> 0 | AG11: =IF((I11=I$8),0,1) -> 0
L12: بیمارستانی | U12: =$L9 -> دارو | Y12: =IF((A12>0),1,0) -> 0 | Z12: =IF((B12>0),1,0) -> 0 | AA12: =IF((C12>0),1,0) -> 0 | AB12: =IF((D12>0),1,0) -> 0 | AC12: =IF((ISTEXT(H12)),1,0) -> 0 | AD12: =IF((ISTEXT(I12)),1,0) -> 0 | AE12: =IF((J12>0),1,0) -> 0 | AF12: =SUM(Y12:AE12) -> 0 | AG12: =IF((I12=I$8),0,1) -> 0
L13: هزینه های دندان | U13: =$L10 -> آزمایش | Y13: =IF((A13>0),1,0) -> 0 | Z13: =IF((B13>0),1,0) -> 0 | AA13: =IF((C13>0),1,0) -> 0 | AB13: =IF((D13>0),1,0) -> 0 | AC13: =IF((ISTEXT(H13)),1,0) -> 0 | AD13: =IF((ISTEXT(I13)),1,0) -> 0 | AE13: =IF((J13>0),1,0) -> 0 | AF13: =SUM(Y13:AE13) -> 0 | AG13: =IF((I13=I$8),0,1) -> 0
L14: MRI | U14: =$L11 -> سونو گرافی | Y14: =IF((A14>0),1,0) -> 0 | Z14: =IF((B14>0),1,0) -> 0 | AA14: =IF((C14>0),1,0) -> 0 | AB14: =IF((D14>0),1,0) -> 0 | AC14: =IF((ISTEXT(H14)),1,0) -> 0 | AD14: =IF((ISTEXT(I14)),1,0) -> 0 | AE14: =IF((J14>0),1,0) -> 0 | AF14: =SUM(Y14:AE14) -> 0 | AG14: =IF((I14=I$8),0,1) -> 0
L15: CTI(سی تی اسکن) | U15: =$L12 -> بیمارستانی | Y15: =IF((A15>0),1,0) -> 0 | Z15: =IF((B15>0),1,0) -> 0 | AA15: =IF((C15>0),1,0) -> 0 | AB15: =IF((D15>0),1,0) -> 0 | AC15: =IF((ISTEXT(H15)),1,0) -> 0 | AD15: =IF((ISTEXT(I15)),1,0) -> 0 | AE15: =IF((J15>0),1,0) -> 0 | AF15: =SUM(Y15:AE15) -> 0 | AG15: =IF((I15=I$8),0,1) -> 0
L16: رادیولوژی | U16: =$L13 -> هزینه های دندان | Y16: =IF((A16>0),1,0) -> 0 | Z16: =IF((B16>0),1,0) -> 0 | AA16: =IF((C16>0),1,0) -> 0 | AB16: =IF((D16>0),1,0) -> 0 | AC16: =IF((ISTEXT(H16)),1,0) -> 0 | AD16: =IF((ISTEXT(I16)),1,0) -> 0 | AE16: =IF((J16>0),1,0) -> 0 | AF16: =SUM(Y16:AE16) -> 0 | AG16: =IF((I16=I$8),0,1) -> 0
L17: اکو قلب | U17: =$L14 -> MRI | Y17: =IF((A17>0),1,0) -> 0 | Z17: =IF((B17>0),1,0) -> 0 | AA17: =IF((C17>0),1,0) -> 0 | AB17: =IF((D17>0),1,0) -> 0 | AC17: =IF((ISTEXT(H17)),1,0) -> 0 | AD17: =IF((ISTEXT(I17)),1,0) -> 0 | AE17: =IF((J17>0),1,0) -> 0 | AF17: =SUM(Y17:AE17) -> 0 | AG17: =IF((I17=I$8),0,1) -> 0
L18: تزریقات | U18: =$L15 -> CTI(سی تی اسکن) | Y18: =IF((A18>0),1,0) -> 0 | Z18: =IF((B18>0),1,0) -> 0 | AA18: =IF((C18>0),1,0) -> 0 | AB18: =IF((D18>0),1,0) -> 0 | AC18: =IF((ISTEXT(H18)),1,0) -> 0 | AD18: =IF((ISTEXT(I18)),1,0) -> 0 | AE18: =IF((J18>0),1,0) -> 0 | AF18: =SUM(Y18:AE18) -> 0 | AG18: =IF((I18=I$8),0,1) -> 0
L19: نوارقلب | U19: =$L16 -> رادیولوژی | Y19: =IF((A19>0),1,0) -> 0 | Z19: =IF((B19>0),1,0) -> 0 | AA19: =IF((C19>0),1,0) -> 0 | AB19: =IF((D19>0),1,0) -> 0 | AC19: =IF((ISTEXT(H19)),1,0) -> 0 | AD19: =IF((ISTEXT(I19)),1,0) -> 0 | AE19: =IF((J19>0),1,0) -> 0 | AF19: =SUM(Y19:AE19) -> 0 | AG19: =IF((I19=I$8),0,1) -> 0
L20: عینک | U20: =$L17 -> اکو قلب | Y20: =IF((A20>0),1,0) -> 0 | Z20: =IF((B20>0),1,0) -> 0 | AA20: =IF((C20>0),1,0) -> 0 | AB20: =IF((D20>0),1,0) -> 0 | AC20: =IF((ISTEXT(H20)),1,0) -> 0 | AD20: =IF((ISTEXT(I20)),1,0) -> 0 | AE20: =IF((J20>0),1,0) -> 0 | AF20: =SUM(Y20:AE20) -> 0 | AG20: =IF((I20=I$8),0,1) -> 0
L21: سرپایی | U21: =$L18 -> تزریقات | Y21: =IF((A21>0),1,0) -> 0 | Z21: =IF((B21>0),1,0) -> 0 | AA21: =IF((C21>0),1,0) -> 0 | AB21: =IF((D21>0),1,0) -> 0 | AC21: =IF((ISTEXT(H21)),1,0) -> 0 | AD21: =IF((ISTEXT(I21)),1,0) -> 0 | AE21: =IF((J21>0),1,0) -> 0 | AF21: =SUM(Y21:AE21) -> 0 | AG21: =IF((I21=I$8),0,1) -> 0
L22: گچ گیری | U22: =$L19 -> نوارقلب | Y22: =IF((A22>0),1,0) -> 0 | Z22: =IF((B22>0),1,0) -> 0 | AA22: =IF((C22>0),1,0) -> 0 | AB22: =IF((D22>0),1,0) -> 0 | AC22: =IF((ISTEXT(H22)),1,0) -> 0 | AD22: =IF((ISTEXT(I22)),1,0) -> 0 | AE22: =IF((J22>0),1,0) -> 0 | AF22: =SUM(Y22:AE22) -> 0
L23: ادیو متری | U23: =$L20 -> عینک | Y23: =IF((A23>0),1,0) -> 0 | Z23: =IF((B23>0),1,0) -> 0 | AA23: =IF((C23>0),1,0) -> 0 | AB23: =IF((D23>0),1,0) -> 0 | AC23: =IF((ISTEXT(H23)),1,0) -> 0 | AD23: =IF((ISTEXT(I23)),1,0) -> 0 | AE23: =IF((J23>0),1,0) -> 0 | AF23: =SUM(Y23:AE23) -> 0
L24: اپتومتری | U24: =$L21 -> سرپایی | Y24: =IF((A24>0),1,0) -> 0 | Z24: =IF((B24>0),1,0) -> 0 | AA24: =IF((C24>0),1,0) -> 0 | AB24: =IF((D24>0),1,0) -> 0 | AC24: =IF((ISTEXT(H24)),1,0) -> 0 | AD24: =IF((ISTEXT(I24)),1,0) -> 0 | AE24: =IF((J24>0),1,0) -> 0 | AF24: =SUM(Y24:AE24) -> 0
L25: فیزیوترابی | U25: =$L22 -> گچ گیری | Y25: =IF((A25>0),1,0) -> 0 | Z25: =IF((B25>0),1,0) -> 0 | AA25: =IF((C25>0),1,0) -> 0 | AB25: =IF((D25>0),1,0) -> 0 | AC25: =IF((ISTEXT(H25)),1,0) -> 0 | AD25: =IF((ISTEXT(I25)),1,0) -> 0 | AE25: =IF((J25>0),1,0) -> 0 | AF25: =SUM(Y25:AE25) -> 0
L26: گفتار درمانی | U26: =$L23 -> ادیو متری | Y26: =IF((A26>0),1,0) -> 0 | Z26: =IF((B26>0),1,0) -> 0 | AA26: =IF((C26>0),1,0) -> 0 | AB26: =IF((D26>0),1,0) -> 0 | AC26: =IF((ISTEXT(H26)),1,0) -> 0 | AD26: =IF((ISTEXT(I26)),1,0) -> 0 | AE26: =IF((J26>0),1,0) -> 0 | AF26: =SUM(Y26:AE26) -> 0
L27: کاردرمانی | U27: =$L24 -> اپتومتری | Y27: =IF((A27>0),1,0) -> 0 | Z27: =IF((B27>0),1,0) -> 0 | AA27: =IF((C27>0),1,0) -> 0 | AB27: =IF((D27>0),1,0) -> 0 | AC27: =IF((ISTEXT(H27)),1,0) -> 0 | AD27: =IF((ISTEXT(I27)),1,0) -> 0 | AE27: =IF((J27>0),1,0) -> 0 | AF27: =SUM(Y27:AE27) -> 0
L28: نوارعصب | U28: =$L25 -> فیزیوترابی
L29: ختنه | U29: =$L26 -> گفتار درمانی
L30: آندوسکپی | U30: =$L27 -> کاردرمانی
L31: هولتر قلب | U31: =$L28 -> نوارعصب
L32: آنژو قلب | U32: =$L29 -> ختنه
L33: اسکن | U33: =$L30 -> آندوسکپی
L34: شستشوی گوش | U34: =$L31 -> هولتر قلب
L35: نوار مغز | U35: =$L32 -> آنژو قلب
L36: تست ورزش | U36: =$L33 -> اسکن
L37: ms | U37: =$L34 -> شستشوی گوش
L38: کلونوسکوپی | U38: =$L35 -> نوار مغز
U39: =$L36 -> تست ورزش
U40: =$L37 -> ms
U41: =$L38 -> کلونوسکوپی
U42: =$L39 -> 0
U43: =$L40 -> 0
U44: =$L41 -> 0
U45: =$L42 -> 0

Sheet پرینت
B4: بیمه گذار: | C4: البب | E4: کد ملی سرپرست: | F4: ='صفحه اول'!G13 -> 0 | H4: شماره قرارداد: | I4: ='صفحه اول'!G15 -> 0
B5: بیمه شده: | C5: ='صفحه اول'!G11 -> 0 | E5: کد ملی بیمار : | F5: =VLOOKUP(C6,'صفحه اول'!B32:I44,6,0) -> 0 | H5: شماره پرونده خسارت:
B6: نام بیمار: | C6: ='سیاهه (2)'!I8 -> 0 | E6: نام کلینیک: | H6: شماره همراه: | I6: ='صفحه اول'!G14 -> 0
I7: ارقام به ریال
B8: شرح هزینه | D8: ='سیاهه (2)'!H8 -> 0 | E8: ='سیاهه (2)'!H9 -> 0 | F8: ='سیاهه (2)'!H10 -> 0 | G8: ='سیاهه (2)'!H11 -> 0 | H8: ='سیاهه (2)'!H12 -> 0 | I8: ='سیاهه (2)'!H13 -> 0 | J8: ='سیاهه (2)'!H14 -> 0
B9: تاریخ : | D9: =D35 -> 0 | E9: =E35 -> 0 | F9: =F35 -> 0 | G9: =G35 -> 0 | H9: =H35 -> 0 | I9: =I35 -> 0 | J9: =J35 -> 0
B10: صورتحساب | D10: ='سیاهه (2)'!J8 -> 0 | E10: ='سیاهه (2)'!J9 -> 0 | F10: ='سیاهه (2)'!J10 -> 0 | G10: ='سیاهه (2)'!J11 -> 0 | H10: ='سیاهه (2)'!J12 -> 0 | I10: ='سیاهه (2)'!J13 -> 0 | J10: ='سیاهه (2)'!J14 -> 0
B11: سهم بیمه گراولیه
B12: فرانشیز
B13: مازاد بر سقف
B14: هزینه قابل پرداخت
B15: مجموعه هزینه قابل پرداخت : | E15: به عدد: | H15: به حروف:
B16: کنترل سقف ثبت کاردکس | D16: هزینه استفاده شده قبلی : سقف باقیمانده:
B18: شرح هزینه | D18: ='سیاهه (2)'!H15 -> 0 | E18: ='سیاهه (2)'!H16 -> 0 | F18: ='سیاهه (2)'!H17 -> 0 | G18: ='سیاهه (2)'!H18 -> 0 | H18: ='سیاهه (2)'!H19 -> 0 | I18: ='سیاهه (2)'!H20 -> 0 | J18: ='سیاهه (2)'!H21 -> 0
B19: تاریخ | D19: =D39 -> 0 | E19: =E39 -> 0 | F19: =F39 -> 0 | G19: =G39 -> 0 | H19: =H39 -> 0 | I19: =I39 -> 0 | J19: =J39 -> 0
B20: صورتحساب | D20: ='سیاهه (2)'!J15 -> 0 | E20: ='سیاهه (2)'!J16 -> 0 | F20: ='سیاهه (2)'!J17 -> 0 | G20: ='سیاهه (2)'!J18 -> 0 | H20: ='سیاهه (2)'!J19 -> 0 | I20: ='سیاهه (2)'!J20 -> 0 | J20: ='سیاهه (2)'!J21 -> 0
B21: سهم بیمه گراولیه
B22: فرانشیز
B23: مازاد بر سقف
B24: هزینه قابل پرداخت
B25: مجموعه هزینه قابل پرداخت : | E25: به عدد: | H25: به حروف:
B26: کنترل سقف ثبت کاردکس | D26: هزینه استفاده شده قبلی : سقف باقیمانده:
B28: محاسب | D28: پزشک | F28: تایید کننده | H28: مبلغ .............................ریال در وجه بیمه شده /کلینیک چک صادر گردد.
E31: /
B32: =B6 -> نام بیمار: | C32: =C6 -> 0 | E32: جمع کل : | F32: =SUM(D36:J36,D40:J40) -> 0 | H32: شماره پذیرش:
B34: =B8 -> شرح هزینه | D34: =D8 -> 0 | E34: =E8 -> 0 | F34: =F8 -> 0 | G34: =G8 -> 0 | H34: =H8 -> 0 | I34: =I8 -> 0 | J34: =J8 -> 0
B35: تاریخ: | D35: =IF((D10>0),'سیاهه (2)'!D8&E31&'سیاهه (2)'!C8&E31&'سیاهه (2)'!B8,0) -> 0 | E35: =IF((E10>0),'سیاهه (2)'!D9&E31&'سیاهه (2)'!C9&E31&'سیاهه (2)'!B9,0) -> 0 | F35: =IF((F10>0),'سیاهه (2)'!D10&E31&'سیاهه (2)'!C10&E31&'سیاهه (2)'!B10,0) -> 0 | G35: =IF((G10>0),'سیاهه (2)'!D11&E31&'سیاهه (2)'!C11&E31&'سیاهه (2)'!B11,0) -> 0 | H35: =IF((H10>0),'سیاهه (2)'!D12&E31&'سیاهه (2)'!C12&E31&'سیاهه (2)'!B12,0) -> 0 | I35: =IF((I10>0),'سیاهه (2)'!D13&E31&'سیاهه (2)'!C13&E31&'سیاهه (2)'!B13,0) -> 0 | J35: =IF((J10>0),'سیاهه (2)'!D14&E31&'سیاهه (2)'!C14&E31&'سیاهه (2)'!B14,0) -> 0
B36: مبلغ پرداخت شده : | D36: =D10 -> 0 | E36: =E10 -> 0 | F36: =F10 -> 0 | G36: =G10 -> 0 | H36: =H10 -> 0 | I36: =I10 -> 0 | J36: =J10 -> 0
B38: =B18 -> شرح هزینه | D38: =D18 -> 0 | E38: =E18 -> 0 | F38: =F18 -> 0 | G38: =G18 -> 0 | H38: =H18 -> 0 | I38: =I18 -> 0 | J38: =J18 -> 0
B39: تاریخ: | D39: =IF((D10>0),'سیاهه (2)'!D15&E31&'سیاهه (2)'!C15&E31&'سیاهه (2)'!B15,0) -> 0 | E39: =IF((E10>0),'سیاهه (2)'!D16&E31&'سیاهه (2)'!C16&E31&'سیاهه (2)'!B16,0) -> 0 | F39: =IF((F10>0),'سیاهه (2)'!D17&E31&'سیاهه (2)'!C17&E31&'سیاهه (2)'!B17,0) -> 0 | G39: =IF((G10>0),'سیاهه (2)'!D18&E31&'سیاهه (2)'!C18&E31&'سیاهه (2)'!B18,0) -> 0 | H39: =IF((H10>0),'سیاهه (2)'!D19&E31&'سیاهه (2)'!C19&E31&'سیاهه (2)'!B19,0) -> 0 | I39: =IF((I10>0),'سیاهه (2)'!D20&E31&'سیاهه (2)'!C20&E31&'سیاهه (2)'!B20,0) -> 0 | J39: =IF((J10>0),'سیاهه (2)'!D21&E31&'سیاهه (2)'!C21&E31&'سیاهه (2)'!B21,0) -> 0
B40: مبلغ پرداخت شده: | D40: =D20 -> 0 | E40: =E20 -> 0 | F40: =F20 -> 0 | G40: =G20 -> 0 | H40: =H20 -> 0 | I40: =I20 -> 0 | J40: =J20 -> 0
